BEGIN:VCALENDAR
VERSION:2.0
PRODID:-//Whole Child, Whole Family - ECPv6.15.20//NONSGML v1.0//EN
CALSCALE:GREGORIAN
METHOD:PUBLISH
X-WR-CALNAME:Whole Child, Whole Family
X-ORIGINAL-URL:https://wholechildwholefamily1.com
X-WR-CALDESC:Events for Whole Child, Whole Family
REFRESH-INTERVAL;VALUE=DURATION:PT1H
X-Robots-Tag:noindex
X-PUBLISHED-TTL:PT1H
BEGIN:VTIMEZONE
TZID:UTC
BEGIN:STANDARD
TZOFFSETFROM:+0000
TZOFFSETTO:+0000
TZNAME:UTC
DTSTART:20250101T000000
END:STANDARD
END:VTIMEZONE
BEGIN:VEVENT
DTSTART;TZID=UTC:20261108T110000
DTEND;TZID=UTC:20261108T160000
DTSTAMP:20260422T223644
CREATED:20251227T042935Z
LAST-MODIFIED:20260102T160406Z
UID:278-1794135600-1794153600@wholechildwholefamily1.com
SUMMARY:HOLISTIC EXPO
DESCRIPTION:location:  Crystal Den \naddress: 1826 E\, BELVIDERE ROAD\, Grayslake\, Illinois 60030
URL:https://wholechildwholefamily1.com/event/holistic-expo-6/
LOCATION:Crystal Den\, 1826 E\, BELVIDERE ROAD\, Grayslake\, Illinois 60030\, Grayslake\, IL\, 60030\, United States
END:VEVENT
END:VCALENDAR